BEGIN:VCALENDAR
VERSION:2.0
PRODID:-//zarrendorf.de - ECPv6.15.20//NONSGML v1.0//EN
CALSCALE:GREGORIAN
METHOD:PUBLISH
X-WR-CALNAME:zarrendorf.de
X-ORIGINAL-URL:https://zarrendorf.de
X-WR-CALDESC:Veranstaltungen für zarrendorf.de
REFRESH-INTERVAL;VALUE=DURATION:PT1H
X-Robots-Tag:noindex
X-PUBLISHED-TTL:PT1H
BEGIN:VTIMEZONE
TZID:Europe/Berlin
BEGIN:DAYLIGHT
TZOFFSETFROM:+0100
TZOFFSETTO:+0200
TZNAME:CEST
DTSTART:20230326T010000
END:DAYLIGHT
BEGIN:STANDARD
TZOFFSETFROM:+0200
TZOFFSETTO:+0100
TZNAME:CET
DTSTART:20231029T010000
END:STANDARD
BEGIN:DAYLIGHT
TZOFFSETFROM:+0100
TZOFFSETTO:+0200
TZNAME:CEST
DTSTART:20240331T010000
END:DAYLIGHT
BEGIN:STANDARD
TZOFFSETFROM:+0200
TZOFFSETTO:+0100
TZNAME:CET
DTSTART:20241027T010000
END:STANDARD
BEGIN:DAYLIGHT
TZOFFSETFROM:+0100
TZOFFSETTO:+0200
TZNAME:CEST
DTSTART:20250330T010000
END:DAYLIGHT
BEGIN:STANDARD
TZOFFSETFROM:+0200
TZOFFSETTO:+0100
TZNAME:CET
DTSTART:20251026T010000
END:STANDARD
BEGIN:DAYLIGHT
TZOFFSETFROM:+0100
TZOFFSETTO:+0200
TZNAME:CEST
DTSTART:20260329T010000
END:DAYLIGHT
BEGIN:STANDARD
TZOFFSETFROM:+0200
TZOFFSETTO:+0100
TZNAME:CET
DTSTART:20261025T010000
END:STANDARD
END:VTIMEZONE
BEGIN:VEVENT
DTSTART;TZID=Europe/Berlin:20250202T110000
DTEND;TZID=Europe/Berlin:20250202T173000
DTSTAMP:20260423T103401
CREATED:20241128T181108Z
LAST-MODIFIED:20241128T181108Z
UID:3941-1738494000-1738517400@zarrendorf.de
SUMMARY:Frühschoppen im Gemeindehaus
DESCRIPTION:am 2.Februar 2025 ab 10 Uhr Frühschoppen
URL:https://zarrendorf.de/veranstaltungen/fruehschoppen-im-gemeindehaus-3/
LOCATION:Feuerwehr/ Gemeindehaus\, Bahnhofstraße 22b\, Zarrendorf\, Mecklenburg Vorpommern\, 18510\, Deutschland
ORGANIZER;CN="Kulturverein":MAILTO:kulturvereinzarrendorf@web.de
END:VEVENT
BEGIN:VEVENT
DTSTART;TZID=Europe/Berlin:20250119T110000
DTEND;TZID=Europe/Berlin:20250119T173000
DTSTAMP:20260423T103401
CREATED:20241128T180827Z
LAST-MODIFIED:20241128T180827Z
UID:3937-1737284400-1737307800@zarrendorf.de
SUMMARY:Kinderkino im Gemeindehaus
DESCRIPTION:am 19.Januar 2025  um 10 Uhr Kinderkino
URL:https://zarrendorf.de/veranstaltungen/kinderkino-im-gemeindehaus/
LOCATION:Feuerwehr/ Gemeindehaus\, Bahnhofstraße 22b\, Zarrendorf\, Mecklenburg Vorpommern\, 18510\, Deutschland
ORGANIZER;CN="Kulturverein":MAILTO:kulturvereinzarrendorf@web.de
END:VEVENT
BEGIN:VEVENT
DTSTART;TZID=Europe/Berlin:20250112T203000
DTEND;TZID=Europe/Berlin:20250112T233000
DTSTAMP:20260423T103401
CREATED:20241128T180957Z
LAST-MODIFIED:20241128T180957Z
UID:3939-1736713800-1736724600@zarrendorf.de
SUMMARY:Landkino im Gemeindehaus
DESCRIPTION:am 12.Januar 2025 um 19:30 Uhr Landkino
URL:https://zarrendorf.de/veranstaltungen/landkino-im-gemeindehaus/
LOCATION:Feuerwehr/ Gemeindehaus\, Bahnhofstraße 22b\, Zarrendorf\, Mecklenburg Vorpommern\, 18510\, Deutschland
ORGANIZER;CN="Kulturverein":MAILTO:kulturvereinzarrendorf@web.de
END:VEVENT
BEGIN:VEVENT
DTSTART;TZID=Europe/Berlin:20250105T110000
DTEND;TZID=Europe/Berlin:20250105T173000
DTSTAMP:20260423T103401
CREATED:20241128T180722Z
LAST-MODIFIED:20241128T180722Z
UID:3935-1736074800-1736098200@zarrendorf.de
SUMMARY:Frühschoppen im Gemeindehaus
DESCRIPTION:am 5.Januar 2025 ab 10 Uhr Frühschoppen
URL:https://zarrendorf.de/veranstaltungen/fruehschoppen-im-gemeindehaus-2/
LOCATION:Feuerwehr/ Gemeindehaus\, Bahnhofstraße 22b\, Zarrendorf\, Mecklenburg Vorpommern\, 18510\, Deutschland
ORGANIZER;CN="Kulturverein":MAILTO:kulturvereinzarrendorf@web.de
END:VEVENT
BEGIN:VEVENT
DTSTART;TZID=Europe/Berlin:20241211T153000
DTEND;TZID=Europe/Berlin:20241211T193000
DTSTAMP:20260423T103401
CREATED:20241128T180606Z
LAST-MODIFIED:20241128T181201Z
UID:3933-1733931000-1733945400@zarrendorf.de
SUMMARY:Seniorenweihnachtsfeier im "Alten Tanzsaal"
DESCRIPTION:am 11.Dezember ab 14:30 Uhr Seniorenweihnachtsfeier im „Alten Tanzsaal“
URL:https://zarrendorf.de/veranstaltungen/seniorenweihnachtsfeier-im-alten-tanzsaal/
LOCATION:Alten Tanzsaal\, Kirchstraße 32\, Zarrendorf\, Mecklenburg Vorpommern\, 18510\, Deutschland
ORGANIZER;CN="Kulturverein":MAILTO:kulturvereinzarrendorf@web.de
END:VEVENT
BEGIN:VEVENT
DTSTART;TZID=Europe/Berlin:20241201T110000
DTEND;TZID=Europe/Berlin:20241201T170000
DTSTAMP:20260423T103401
CREATED:20241128T180453Z
LAST-MODIFIED:20241128T180453Z
UID:3931-1733050800-1733072400@zarrendorf.de
SUMMARY:Frühschoppen im Gemeindehaus
DESCRIPTION:am 1.Dezember ab 10 Uhr Frühschoppen
URL:https://zarrendorf.de/veranstaltungen/fruehschoppen-im-gemeindehaus/
LOCATION:Feuerwehr/ Gemeindehaus\, Bahnhofstraße 22b\, Zarrendorf\, Mecklenburg Vorpommern\, 18510\, Deutschland
ORGANIZER;CN="Kulturverein":MAILTO:kulturvereinzarrendorf@web.de
END:VEVENT
BEGIN:VEVENT
DTSTART;TZID=Europe/Berlin:20241130T150000
DTEND;TZID=Europe/Berlin:20241130T190000
DTSTAMP:20260423T103401
CREATED:20241128T175814Z
LAST-MODIFIED:20241128T180250Z
UID:3924-1732978800-1732993200@zarrendorf.de
SUMMARY:Weihnachtsmarkt vor und im Gemeindehaus
DESCRIPTION:30.November 14-18 Uhr Weihnachtsmarkt vor und im Gemeindehaus
URL:https://zarrendorf.de/veranstaltungen/weihnachtsmarkt-vor-und-im-gemeindehaus/
LOCATION:Feuerwehr/ Gemeindehaus\, Bahnhofstraße 22b\, Zarrendorf\, Mecklenburg Vorpommern\, 18510\, Deutschland
ORGANIZER;CN="Kulturverein":MAILTO:kulturvereinzarrendorf@web.de
END:VEVENT
BEGIN:VEVENT
DTSTART;TZID=Europe/Berlin:20241103T120000
DTEND;TZID=Europe/Berlin:20241103T150000
DTSTAMP:20260423T103401
CREATED:20240410T075914Z
LAST-MODIFIED:20240410T075914Z
UID:3736-1730635200-1730646000@zarrendorf.de
SUMMARY:Frühschoppen
DESCRIPTION:Frühschoppen
URL:https://zarrendorf.de/veranstaltungen/fruehschoppen-8/
LOCATION:Feuerwehr/ Gemeindehaus\, Bahnhofstraße 22b\, Zarrendorf\, Mecklenburg Vorpommern\, 18510\, Deutschland
CATEGORIES:Frühschoppen
ORGANIZER;CN="Kulturverein":MAILTO:kulturvereinzarrendorf@web.de
END:VEVENT
BEGIN:VEVENT
DTSTART;TZID=Europe/Berlin:20241006T120000
DTEND;TZID=Europe/Berlin:20241006T150000
DTSTAMP:20260423T103401
CREATED:20240410T075830Z
LAST-MODIFIED:20240410T075830Z
UID:3734-1728216000-1728226800@zarrendorf.de
SUMMARY:Frühschoppen
DESCRIPTION:Frühschoppen
URL:https://zarrendorf.de/veranstaltungen/fruehschoppen-7/
LOCATION:Feuerwehr/ Gemeindehaus\, Bahnhofstraße 22b\, Zarrendorf\, Mecklenburg Vorpommern\, 18510\, Deutschland
CATEGORIES:Frühschoppen
ORGANIZER;CN="Kulturverein":MAILTO:kulturvereinzarrendorf@web.de
END:VEVENT
BEGIN:VEVENT
DTSTART;TZID=Europe/Berlin:20240907T160000
DTEND;TZID=Europe/Berlin:20240907T190000
DTSTAMP:20260423T103401
CREATED:20240206T183359Z
LAST-MODIFIED:20240206T183414Z
UID:3699-1725724800-1725735600@zarrendorf.de
SUMMARY:Zarrendorfer Fahrradtour
DESCRIPTION:
URL:https://zarrendorf.de/veranstaltungen/zarrendorfer-fahrradtour/
LOCATION:Feuerwehr/ Gemeindehaus\, Bahnhofstraße 22b\, Zarrendorf\, Mecklenburg Vorpommern\, 18510\, Deutschland
ORGANIZER;CN="Kulturverein":MAILTO:kulturvereinzarrendorf@web.de
END:VEVENT
BEGIN:VEVENT
DTSTART;TZID=Europe/Berlin:20240901T120000
DTEND;TZID=Europe/Berlin:20240901T150000
DTSTAMP:20260423T103401
CREATED:20240410T075740Z
LAST-MODIFIED:20240410T075740Z
UID:3731-1725192000-1725202800@zarrendorf.de
SUMMARY:Frühschoppen
DESCRIPTION:Frühschoppen
URL:https://zarrendorf.de/veranstaltungen/fruehschoppen-6/
LOCATION:Feuerwehr/ Gemeindehaus\, Bahnhofstraße 22b\, Zarrendorf\, Mecklenburg Vorpommern\, 18510\, Deutschland
CATEGORIES:Frühschoppen
ORGANIZER;CN="Kulturverein":MAILTO:kulturvereinzarrendorf@web.de
END:VEVENT
BEGIN:VEVENT
DTSTART;TZID=Europe/Berlin:20240804T120000
DTEND;TZID=Europe/Berlin:20240804T150000
DTSTAMP:20260423T103401
CREATED:20240410T075657Z
LAST-MODIFIED:20240410T075657Z
UID:3729-1722772800-1722783600@zarrendorf.de
SUMMARY:Frühschoppen
DESCRIPTION:Frühschoppen
URL:https://zarrendorf.de/veranstaltungen/fruehschoppen-5/
LOCATION:Feuerwehr/ Gemeindehaus\, Bahnhofstraße 22b\, Zarrendorf\, Mecklenburg Vorpommern\, 18510\, Deutschland
CATEGORIES:Frühschoppen
ORGANIZER;CN="Kulturverein":MAILTO:kulturvereinzarrendorf@web.de
END:VEVENT
BEGIN:VEVENT
DTSTART;TZID=Europe/Berlin:20240707T120000
DTEND;TZID=Europe/Berlin:20240707T150000
DTSTAMP:20260423T103401
CREATED:20240410T075605Z
LAST-MODIFIED:20240410T075605Z
UID:3727-1720353600-1720364400@zarrendorf.de
SUMMARY:Frühschoppen
DESCRIPTION:Frühschoppen
URL:https://zarrendorf.de/veranstaltungen/fruehschoppen-4/
LOCATION:Feuerwehr/ Gemeindehaus\, Bahnhofstraße 22b\, Zarrendorf\, Mecklenburg Vorpommern\, 18510\, Deutschland
CATEGORIES:Frühschoppen
ORGANIZER;CN="Kulturverein":MAILTO:kulturvereinzarrendorf@web.de
END:VEVENT
BEGIN:VEVENT
DTSTART;TZID=Europe/Berlin:20240608T103000
DTEND;TZID=Europe/Berlin:20240609T020000
DTSTAMP:20260423T103401
CREATED:20240410T074903Z
LAST-MODIFIED:20240410T074903Z
UID:3721-1717842600-1717898400@zarrendorf.de
SUMMARY:Subbotnik
DESCRIPTION:Subbotnik (wir reparieren und verschönern die Buden vor dem Gemeindehaus)
URL:https://zarrendorf.de/veranstaltungen/subbotnik/
LOCATION:Feuerwehr/ Gemeindehaus\, Bahnhofstraße 22b\, Zarrendorf\, Mecklenburg Vorpommern\, 18510\, Deutschland
ORGANIZER;CN="Kulturverein":MAILTO:kulturvereinzarrendorf@web.de
END:VEVENT
BEGIN:VEVENT
DTSTART;TZID=Europe/Berlin:20240602T120000
DTEND;TZID=Europe/Berlin:20240602T150000
DTSTAMP:20260423T103401
CREATED:20240410T075235Z
LAST-MODIFIED:20240410T075235Z
UID:3723-1717329600-1717340400@zarrendorf.de
SUMMARY:Frühschoppen
DESCRIPTION:Frühschoppen
URL:https://zarrendorf.de/veranstaltungen/fruehschoppen-3/
LOCATION:Feuerwehr/ Gemeindehaus\, Bahnhofstraße 22b\, Zarrendorf\, Mecklenburg Vorpommern\, 18510\, Deutschland
CATEGORIES:Frühschoppen
ORGANIZER;CN="Kulturverein":MAILTO:kulturvereinzarrendorf@web.de
END:VEVENT
BEGIN:VEVENT
DTSTART;TZID=Europe/Berlin:20240505T190000
DTEND;TZID=Europe/Berlin:20240505T200000
DTSTAMP:20260423T103401
CREATED:20240410T074654Z
LAST-MODIFIED:20240410T074654Z
UID:3719-1714935600-1714939200@zarrendorf.de
SUMMARY:LineDance
DESCRIPTION:LineDance (jeden Sonntag\, auch für Neueinsteiger)
URL:https://zarrendorf.de/veranstaltungen/linedance/
LOCATION:Feuerwehr/ Gemeindehaus\, Bahnhofstraße 22b\, Zarrendorf\, Mecklenburg Vorpommern\, 18510\, Deutschland
ORGANIZER;CN="Kulturverein":MAILTO:kulturvereinzarrendorf@web.de
END:VEVENT
BEGIN:VEVENT
DTSTART;TZID=Europe/Berlin:20240505T120000
DTEND;TZID=Europe/Berlin:20240505T150000
DTSTAMP:20260423T103401
CREATED:20240206T183252Z
LAST-MODIFIED:20240206T183252Z
UID:3697-1714910400-1714921200@zarrendorf.de
SUMMARY:Frühschoppen
DESCRIPTION:
URL:https://zarrendorf.de/veranstaltungen/fruehschoppen-2/
LOCATION:Feuerwehr/ Gemeindehaus\, Bahnhofstraße 22b\, Zarrendorf\, Mecklenburg Vorpommern\, 18510\, Deutschland
ORGANIZER;CN="Kulturverein":MAILTO:kulturvereinzarrendorf@web.de
END:VEVENT
BEGIN:VEVENT
DTSTART;TZID=Europe/Berlin:20240504T150000
DTEND;TZID=Europe/Berlin:20240504T180000
DTSTAMP:20260423T103401
CREATED:20240410T074420Z
LAST-MODIFIED:20240410T074454Z
UID:3715-1714834800-1714845600@zarrendorf.de
SUMMARY:Pflanzen- und Flohmarkt
DESCRIPTION:Pflanzen- und Flohmarkt /-vor dem Gemeindehaus\, nicht bei Regen\, Anmeldung unter: kulturvereinzarrendorf@web.de
URL:https://zarrendorf.de/veranstaltungen/pflanzen-und-flohmarkt/
LOCATION:Feuerwehr/ Gemeindehaus\, Bahnhofstraße 22b\, Zarrendorf\, Mecklenburg Vorpommern\, 18510\, Deutschland
ORGANIZER;CN="Kulturverein":MAILTO:kulturvereinzarrendorf@web.de
END:VEVENT
BEGIN:VEVENT
DTSTART;TZID=Europe/Berlin:20240429T193000
DTEND;TZID=Europe/Berlin:20240429T213000
DTSTAMP:20260423T103401
CREATED:20240206T183143Z
LAST-MODIFIED:20240206T183159Z
UID:3694-1714419000-1714426200@zarrendorf.de
SUMMARY:„Herzensretter“
DESCRIPTION:
URL:https://zarrendorf.de/veranstaltungen/herzensretter/
LOCATION:Feuerwehr/ Gemeindehaus\, Bahnhofstraße 22b\, Zarrendorf\, Mecklenburg Vorpommern\, 18510\, Deutschland
ORGANIZER;CN="Kulturverein":MAILTO:kulturvereinzarrendorf@web.de
END:VEVENT
BEGIN:VEVENT
DTSTART;TZID=Europe/Berlin:20240420T200000
DTEND;TZID=Europe/Berlin:20240421T020000
DTSTAMP:20260423T103401
CREATED:20240410T074200Z
LAST-MODIFIED:20240410T074248Z
UID:3713-1713643200-1713664800@zarrendorf.de
SUMMARY:ZarrenDorfbeat
DESCRIPTION:Erste Zarrendorfer Jugenddisco im Gemeindehaus
URL:https://zarrendorf.de/veranstaltungen/zarrendorfbeat/
LOCATION:Feuerwehr/ Gemeindehaus\, Bahnhofstraße 22b\, Zarrendorf\, Mecklenburg Vorpommern\, 18510\, Deutschland
ORGANIZER;CN="Kulturverein":MAILTO:kulturvereinzarrendorf@web.de
END:VEVENT
BEGIN:VEVENT
DTSTART;TZID=Europe/Berlin:20240407T120000
DTEND;TZID=Europe/Berlin:20240407T150000
DTSTAMP:20260423T103401
CREATED:20240206T182950Z
LAST-MODIFIED:20240206T183059Z
UID:3691-1712491200-1712502000@zarrendorf.de
SUMMARY:Frühschoppen
DESCRIPTION:
URL:https://zarrendorf.de/veranstaltungen/fruehschoppen/
LOCATION:Feuerwehr/ Gemeindehaus\, Bahnhofstraße 22b\, Zarrendorf\, Mecklenburg Vorpommern\, 18510\, Deutschland
ORGANIZER;CN="Kulturverein":MAILTO:kulturvereinzarrendorf@web.de
END:VEVENT
BEGIN:VEVENT
DTSTART;TZID=Europe/Berlin:20240316T150000
DTEND;TZID=Europe/Berlin:20240316T170000
DTSTAMP:20260423T103401
CREATED:20240206T182845Z
LAST-MODIFIED:20240206T182845Z
UID:3689-1710601200-1710608400@zarrendorf.de
SUMMARY:Osterbasteln
DESCRIPTION:
URL:https://zarrendorf.de/veranstaltungen/osterbasteln/
LOCATION:Feuerwehr/ Gemeindehaus\, Bahnhofstraße 22b\, Zarrendorf\, Mecklenburg Vorpommern\, 18510\, Deutschland
ORGANIZER;CN="Kulturverein":MAILTO:kulturvereinzarrendorf@web.de
END:VEVENT
BEGIN:VEVENT
DTSTART;TZID=Europe/Berlin:20240312T203000
DTEND;TZID=Europe/Berlin:20240312T220000
DTSTAMP:20260423T103401
CREATED:20240206T182743Z
LAST-MODIFIED:20240206T182743Z
UID:3687-1710275400-1710280800@zarrendorf.de
SUMMARY:Landkino „Es ist nur eine Phase\, Hase“
DESCRIPTION:
URL:https://zarrendorf.de/veranstaltungen/landkino-es-ist-nur-eine-phase-hase/
LOCATION:Feuerwehr/ Gemeindehaus\, Bahnhofstraße 22b\, Zarrendorf\, Mecklenburg Vorpommern\, 18510\, Deutschland
ORGANIZER;CN="Kulturverein":MAILTO:kulturvereinzarrendorf@web.de
END:VEVENT
BEGIN:VEVENT
DTSTART;TZID=Europe/Berlin:20240308T110000
DTEND;TZID=Europe/Berlin:20240308T140000
DTSTAMP:20260423T103401
CREATED:20240206T182615Z
LAST-MODIFIED:20240206T182615Z
UID:3685-1709895600-1709906400@zarrendorf.de
SUMMARY:Frauentagsbrunch im Alten Tanzsaal
DESCRIPTION:
URL:https://zarrendorf.de/veranstaltungen/frauentagsbrunch-im-alten-tanzsaal/
LOCATION:Alten Tanzsaal\, Kirchstraße 32\, Zarrendorf\, Mecklenburg Vorpommern\, 18510\, Deutschland
ORGANIZER;CN="Kulturverein":MAILTO:kulturvereinzarrendorf@web.de
END:VEVENT
BEGIN:VEVENT
DTSTART;TZID=Europe/Berlin:20240303T110000
DTEND;TZID=Europe/Berlin:20240303T140000
DTSTAMP:20260423T103401
CREATED:20240206T182336Z
LAST-MODIFIED:20240206T182505Z
UID:3682-1709463600-1709474400@zarrendorf.de
SUMMARY:Frühschoppen (jeden 1. Sonntag im Monat)
DESCRIPTION:
URL:https://zarrendorf.de/veranstaltungen/fruehschoppen-jeden-1-sonntag-im-monat/
LOCATION:Feuerwehr/ Gemeindehaus\, Bahnhofstraße 22b\, Zarrendorf\, Mecklenburg Vorpommern\, 18510\, Deutschland
ORGANIZER;CN="Kulturverein":MAILTO:kulturvereinzarrendorf@web.de
END:VEVENT
BEGIN:VEVENT
DTSTART;TZID=Europe/Berlin:20240227T200000
DTEND;TZID=Europe/Berlin:20240227T200000
DTSTAMP:20260423T103401
CREATED:20240206T182150Z
LAST-MODIFIED:20240206T182150Z
UID:3680-1709064000-1709064000@zarrendorf.de
SUMMARY:Vorstandsitzung Kulturverein
DESCRIPTION:
URL:https://zarrendorf.de/veranstaltungen/vorstandsitzung-kulturverein/
LOCATION:Feuerwehr/ Gemeindehaus\, Bahnhofstraße 22b\, Zarrendorf\, Mecklenburg Vorpommern\, 18510\, Deutschland
ORGANIZER;CN="Kulturverein":MAILTO:kulturvereinzarrendorf@web.de
END:VEVENT
BEGIN:VEVENT
DTSTART;TZID=Europe/Berlin:20240225T170000
DTEND;TZID=Europe/Berlin:20240225T190000
DTSTAMP:20260423T103401
CREATED:20240206T182055Z
LAST-MODIFIED:20240206T182055Z
UID:3678-1708880400-1708887600@zarrendorf.de
SUMMARY:Beginn LineDance-Kurs (2x 4 Sonntage)
DESCRIPTION:
URL:https://zarrendorf.de/veranstaltungen/beginn-linedance-kurs-2x-4-sonntage/
LOCATION:Feuerwehr/ Gemeindehaus\, Bahnhofstraße 22b\, Zarrendorf\, Mecklenburg Vorpommern\, 18510\, Deutschland
ORGANIZER;CN="Kulturverein":MAILTO:kulturvereinzarrendorf@web.de
END:VEVENT
BEGIN:VEVENT
DTSTART;TZID=Europe/Berlin:20240222T203000
DTEND;TZID=Europe/Berlin:20240222T210000
DTSTAMP:20260423T103401
CREATED:20240206T181928Z
LAST-MODIFIED:20240206T181928Z
UID:3676-1708633800-1708635600@zarrendorf.de
SUMMARY:Infoveranstaltung LineDance
DESCRIPTION:
URL:https://zarrendorf.de/veranstaltungen/infoveranstaltung-linedance/
LOCATION:Feuerwehr/ Gemeindehaus\, Bahnhofstraße 22b\, Zarrendorf\, Mecklenburg Vorpommern\, 18510\, Deutschland
END:VEVENT
BEGIN:VEVENT
DTSTART;TZID=Europe/Berlin:20240220T203000
DTEND;TZID=Europe/Berlin:20240220T220000
DTSTAMP:20260423T103401
CREATED:20240206T181704Z
LAST-MODIFIED:20240206T181819Z
UID:3674-1708461000-1708466400@zarrendorf.de
SUMMARY:Landkino „Der vermessene Mensch“
DESCRIPTION:
URL:https://zarrendorf.de/veranstaltungen/landkino-der-vermessene-mensch/
LOCATION:Feuerwehr/ Gemeindehaus\, Bahnhofstraße 22b\, Zarrendorf\, Mecklenburg Vorpommern\, 18510\, Deutschland
ORGANIZER;CN="Kulturverein":MAILTO:kulturvereinzarrendorf@web.de
END:VEVENT
BEGIN:VEVENT
DTSTART;TZID=Europe/Berlin:20240218T110000
DTEND;TZID=Europe/Berlin:20240218T123000
DTSTAMP:20260423T103401
CREATED:20240206T181522Z
LAST-MODIFIED:20240206T181546Z
UID:3672-1708254000-1708259400@zarrendorf.de
SUMMARY:Kinderkino „Paw Patrol-Der Film“
DESCRIPTION:
URL:https://zarrendorf.de/veranstaltungen/kinderkino-paw-patrol-der-film/
LOCATION:Feuerwehr/ Gemeindehaus\, Bahnhofstraße 22b\, Zarrendorf\, Mecklenburg Vorpommern\, 18510\, Deutschland
ORGANIZER;CN="Kulturverein":MAILTO:kulturvereinzarrendorf@web.de
END:VEVENT
END:VCALENDAR