BEGIN:VCALENDAR
VERSION:2.0
PRODID:-//zarrendorf.de - ECPv6.15.20//NONSGML v1.0//EN
CALSCALE:GREGORIAN
METHOD:PUBLISH
X-ORIGINAL-URL:https://zarrendorf.de
X-WR-CALDESC:Veranstaltungen für zarrendorf.de
REFRESH-INTERVAL;VALUE=DURATION:PT1H
X-Robots-Tag:noindex
X-PUBLISHED-TTL:PT1H
BEGIN:VTIMEZONE
TZID:Europe/Berlin
BEGIN:DAYLIGHT
TZOFFSETFROM:+0100
TZOFFSETTO:+0200
TZNAME:CEST
DTSTART:20230326T010000
END:DAYLIGHT
BEGIN:STANDARD
TZOFFSETFROM:+0200
TZOFFSETTO:+0100
TZNAME:CET
DTSTART:20231029T010000
END:STANDARD
BEGIN:DAYLIGHT
TZOFFSETFROM:+0100
TZOFFSETTO:+0200
TZNAME:CEST
DTSTART:20240331T010000
END:DAYLIGHT
BEGIN:STANDARD
TZOFFSETFROM:+0200
TZOFFSETTO:+0100
TZNAME:CET
DTSTART:20241027T010000
END:STANDARD
BEGIN:DAYLIGHT
TZOFFSETFROM:+0100
TZOFFSETTO:+0200
TZNAME:CEST
DTSTART:20250330T010000
END:DAYLIGHT
BEGIN:STANDARD
TZOFFSETFROM:+0200
TZOFFSETTO:+0100
TZNAME:CET
DTSTART:20251026T010000
END:STANDARD
END:VTIMEZONE
BEGIN:VEVENT
DTSTART;TZID=Europe/Berlin:20240707T120000
DTEND;TZID=Europe/Berlin:20240707T150000
DTSTAMP:20260420T084043
CREATED:20240410T075605Z
LAST-MODIFIED:20240410T075605Z
UID:3727-1720353600-1720364400@zarrendorf.de
SUMMARY:Frühschoppen
DESCRIPTION:Frühschoppen
URL:https://zarrendorf.de/veranstaltungen/fruehschoppen-4/
LOCATION:Feuerwehr/ Gemeindehaus\, Bahnhofstraße 22b\, Zarrendorf\, Mecklenburg Vorpommern\, 18510\, Deutschland
CATEGORIES:Frühschoppen
ORGANIZER;CN="Kulturverein":MAILTO:kulturvereinzarrendorf@web.de
END:VEVENT
END:VCALENDAR